BEGIN:VCALENDAR
METHOD:PUBLISH
PRODID:-//github.com/rianjs/ical.net//NONSGML ical.net 4.0//EN
VERSION:2.0
X-WR-CALNAME:Dingeman Family Faculty Connection
BEGIN:VEVENT
CREATED:20260421T132121
DESCRIPTION:8:30am-9:30am\, Dingeman Lunch Arbor
DTEND:20260423T163000Z
DTSTAMP:20260423T143918Z
DTSTART:20260423T153000Z
LAST-MODIFIED:20260421T132121
SEQUENCE:0
STATUS:CONFIRMED
SUMMARY:Volunteer Appreciation Social
TRANSP:TRANSPARENT
UID:145559@ourschoolpages.com
END:VEVENT
END:VCALENDAR
