BEGIN:VCALENDAR
METHOD:PUBLISH
PRODID:-//github.com/rianjs/ical.net//NONSGML ical.net 4.0//EN
VERSION:2.0
X-WR-CALNAME:Dingeman Family Faculty Connection
BEGIN:VEVENT
CREATED:20260421T132150
DTEND;VALUE=DATE:20260428
DTSTAMP:20260423T144334Z
DTSTART;VALUE=DATE:20260427
LAST-MODIFIED:20260421T132150
SEQUENCE:0
STATUS:CONFIRMED
SUMMARY:5th Grade Promotion Picture Day
TRANSP:TRANSPARENT
UID:145560@ourschoolpages.com
END:VEVENT
END:VCALENDAR
