BEGIN:VCALENDAR
METHOD:PUBLISH
PRODID:-//github.com/rianjs/ical.net//NONSGML ical.net 4.0//EN
VERSION:2.0
X-WR-CALNAME:Dingeman Family Faculty Connection
BEGIN:VEVENT
CREATED:20260421T132232
DESCRIPTION:White Top\, 8:30-8:50 am
DTEND:20260501T155000Z
DTSTAMP:20260423T144109Z
DTSTART:20260501T153000Z
LAST-MODIFIED:20260421T132232
SEQUENCE:0
STATUS:CONFIRMED
SUMMARY:Tiger Rally
TRANSP:TRANSPARENT
UID:145561@ourschoolpages.com
END:VEVENT
END:VCALENDAR
